View In:
ArcGIS JavaScript
ArcGIS Online Map Viewer
ArcGIS Earth
ArcMap
ArcGIS Pro
View Footprint In:
ArcGIS Online Map Viewer
Service Description: This is a map service for Mapping
Map Name: US Map
Legend
All Layers and Tables
Dynamic Legend
Dynamic All Layers
Layers:
Description:
Copyright Text:
Spatial Reference:
4326
(4326)
Single Fused Map Cache: true
Tile Info:
- Height: 256
- Width: 256
- DPI: 96
-
Levels of Detail: 11
-
Level ID: 2
[ Start Tile, End Tile ]
- Resolution: 0.043994564686933225
- Scale: 1.848929845E7
-
Level ID: 10
[ Start Tile, End Tile ]
- Resolution: 2.1481721043802454E-5
- Scale: 9027.977761
- Format: PNG32
- Compression Quality: 0.0
- Origin: X: -400.0
Y: 400.0
- Spatial Reference: 4326
(4326)
Initial Extent:
XMin: -180.2609576454802
YMin: 36.29917748973295
XMax: -54.4561287733876
YMax: 81.0414806450797
Spatial Reference: 4326
(4326)
Full Extent:
XMin: -178
YMin: 15
XMax: -51
YMax: 86
Spatial Reference: 4326
(4326)
Units: esriDecimalDegrees
Supported Image Format Types: PNG32,PNG24,PNG,JPG,DIB,TIFF,EMF,PS,PDF,GIF,SVG,SVGZ,BMP
Document Info:
Title:
Author:
Comments: This is a map service for Mapping
Subject: This is a map service for Mapping
Category:
Keywords: map,service,Mapping
AntialiasingMode: None
TextAntialiasingMode: Force
Supports Dynamic Layers: true
MaxRecordCount: 1000
MaxImageHeight: 4096
MaxImageWidth: 4096
Supported Query Formats: JSON, geoJSON
Min Scale: 5.827869196436457E7
Max Scale: 4513.988705
Supports Datum Transformation: true
Child Resources:
Info
Dynamic Layer
Supported Operations:
Export Map
Identify
QueryDomains
QueryLegends
Find
Return Updates